BEGIN:VCALENDAR
VERSION:2.0
PRODID:-//Ό,τι αξίζει να ακούσεις και να δεις - ECPv6.15.20//NONSGML v1.0//EN
CALSCALE:GREGORIAN
METHOD:PUBLISH
X-WR-CALNAME:Ό,τι αξίζει να ακούσεις και να δεις
X-ORIGINAL-URL:https://depart.gr
X-WR-CALDESC:Events for Ό,τι αξίζει να ακούσεις και να δεις
REFRESH-INTERVAL;VALUE=DURATION:PT1H
X-Robots-Tag:noindex
X-PUBLISHED-TTL:PT1H
BEGIN:VTIMEZONE
TZID:Europe/Helsinki
BEGIN:DAYLIGHT
TZOFFSETFROM:+0200
TZOFFSETTO:+0300
TZNAME:EEST
DTSTART:20250330T010000
END:DAYLIGHT
BEGIN:STANDARD
TZOFFSETFROM:+0300
TZOFFSETTO:+0200
TZNAME:EET
DTSTART:20251026T010000
END:STANDARD
BEGIN:DAYLIGHT
TZOFFSETFROM:+0200
TZOFFSETTO:+0300
TZNAME:EEST
DTSTART:20260329T010000
END:DAYLIGHT
BEGIN:STANDARD
TZOFFSETFROM:+0300
TZOFFSETTO:+0200
TZNAME:EET
DTSTART:20261025T010000
END:STANDARD
BEGIN:DAYLIGHT
TZOFFSETFROM:+0200
TZOFFSETTO:+0300
TZNAME:EEST
DTSTART:20270328T010000
END:DAYLIGHT
BEGIN:STANDARD
TZOFFSETFROM:+0300
TZOFFSETTO:+0200
TZNAME:EET
DTSTART:20271031T010000
END:STANDARD
END:VTIMEZONE
BEGIN:VEVENT
DTSTART;TZID=Europe/Helsinki:20260425T193000
DTEND;TZID=Europe/Helsinki:20260425T233000
DTSTAMP:20260425T061033
CREATED:20260129T142540Z
LAST-MODIFIED:20260129T142540Z
UID:107964-1777145400-1777159800@depart.gr
SUMMARY:Το Ladies of Metal Festival επιστρέφει δυναμικά τον Απρίλιο του 2026 στο Temple Athens (Day 3)
DESCRIPTION:Οι Viceroy ετοιμάζουν τις αποσκευές τους για να κατηφορίσουν στην Αθήνα\, φέρνοντας μαζί τους τον θόρυβο και την ενέργεια που τους χαρακτηρίζει. Την Κυριακή 10 Μαΐου\, η σκηνή του Death Disco θα φιλοξενήσει το συγκρότημα από τη Θεσσαλονίκη\, σε μια βραδιά που αποτελεί σταθμό της πρώτης τους μεγάλης ευρωπαϊκής περιοδείας. Είναι μια ιδανική ευκαιρία για το αθηναϊκό κοινό να δει από κοντά ένα από τα πιο ανερχόμενα ονόματα της εναλλακτικής σκηνής. Η συγκεκριμένη εμφάνιση υπόσχεται ένταση και αληθινό rock συναίσθημα χωρίς περιττά στολίδια. 								\n				\n					\n		\n					\n		\n				\n						\n					\n			\n						\n				\n									Με τον πρώτο τους δίσκο με τίτλο “Freedom Tastes Like Breakfast”\, ο οποίος κυκλοφόρησε τον Οκτώβριο του 2025\, οι Viceroy κατάφεραν να ταράξουν τα νερά. Ο ήχος τους δεν μπαίνει εύκολα σε καλούπια\, αφού μπλέκει το alternative indie με noise στοιχεία και avant-rock πειραματισμούς. Οι Viceroy χτίζουν έναν τοίχο ήχου που ξεσπά με ωμότητα και σπρώχνει τα όργανα στα άκρα τους σε κάθε live εμφάνιση. Κάθε τους κίνηση πάνω στη σκηνή βγάζει μια αυθεντική ορμή που μετατρέπει τη συναυλία σε μια ηλεκτρισμένη εμπειρία. 								\n				\n					\n		\n					\n		\n				\n						\n					\n			\n						\n				\n									Αυτή η βραδιά όμως δεν θα έχει μόνο έναν πρωταγωνιστή\, καθώς μαζί τους θα βρίσκονται και οι ασταμάτητοι Come. Το αθηναϊκό rock τρίο έχει ήδη γράψει πολλά χιλιόμετρα στον δρόμο\, έχοντας παίξει σε πάνω από 15 πόλεις σε Ελλάδα και εξωτερικό. Οι Come φέρνουν στη σκηνή έναν ακατέργαστο και εκρηκτικό ήχο που βασίζεται στα δυνατά riff και την απόλυτη ειλικρίνεια. Η συμμετοχή τους σε μεγάλα events\, όπως το Endless Daze Festival\, δείχνει πως ξέρουν καλά πώς να κερδίζουν το κοινό κάτω από το stage. 								\n				\n					\n		\n					\n		\n				\n						\n					\n			\n						\n				\n																														\n				\n				\n				\n							\n			\n		\n						\n				\n					\n		\n					\n		\n				\n						\n					\n			\n						\n				\n									Συμπρωταγωνιστές σε αυτό το ηχητικό σύμπαν\, οι Come ετοιμάζουν αυτόν τον καιρό το πρώτο τους EP\, το οποίο αναμένεται να κυκλοφορήσει μέσα στο 2026. Η πορεία τους μέχρι τώρα\, με στάσεις στην Κωνσταντινούπολη και την υπόλοιπη Ευρώπη\, τους έχει δώσει τον απαραίτητο αέρα μιας μπάντας που πατάει γερά στα πόδια της. 								\n				\n					\n		\n					\n		\n				\n						\n					\n			\n						\n				\n									Η συνάντηση των δύο αυτών σχημάτων στο Death Disco δημιουργεί τις κατάλληλες συνθήκες για ένα live που θα θυμόμαστε για καιρό. Το ραντεβού έχει οριστεί για τις 21:00 το βράδυ και η προσμονή για τα νέα τους κομμάτια είναι ήδη μεγάλη. Η οργάνωση της βραδιάς έχει γίνει με σκοπό να αναδειχθεί η αβίαστη ενέργεια και η μουσική αυθεντικότητα των δύο σχημάτων. 								\n				\n					\n		\n					\n		\n				\n						\n					\n			\n						\n				\n									Μην ξεχνάτε πως αυτή η παρουσίαση είναι μέρος μιας μεγαλύτερης προσπάθειας των παιδιών να επικοινωνήσουν τη δουλειά τους εκτός συνόρων. Οι Viceroy και οι Come αντιπροσωπεύουν τη νέα γενιά της ελληνικής rock σκηνής που δεν φοβάται να πειραματιστεί και να λερώσει τον ήχο της.  								\n				\n					\n		\n					\n		\n				\n						\n					\n			\n						\n				\n									Το live στο Death Disco την Κυριακή 10 Μαΐου θα είναι μια γιορτή του ανεξάρτητου ήχου που δεν πρέπει να χάσει κανένας φίλος της καλής μουσικής. Σας περιμένουμε εκεί για να ζήσουμε μαζί αυτή την εμπειρία\, όπως λένε και οι ίδιοι οι μουσικοί “θέλουμε ο κόσμος να νιώσει την ένταση που νιώθουμε κι εμείς πάνω στη σκηνή”.
URL:https://depart.gr/event/to-ladies-of-metal-festival-epistrefei-dynamika-ton-aprilio-tou-2026-sto-temple-athens-day-3/
LOCATION:Temple Athens\, Ιάκχου 17\, Αθήνα\, Αττική\, 11854\, Greece
CATEGORIES:Temple,Συναυλίες,Συναυλίες Εγχώριας Σκηνής
ATTACH;FMTTYPE=image/jpeg:https://depart.gr/wp-content/uploads/2026/01/622329907_1450218460442690_5757517609632968473_n.jpg
ORGANIZER;CN="Temple Athens":MAILTO:info@thetemple.gr
END:VEVENT
BEGIN:VEVENT
DTSTART;TZID=Europe/Helsinki:20260425T200000
DTEND;TZID=Europe/Helsinki:20260425T233000
DTSTAMP:20260425T061033
CREATED:20260226T151831Z
LAST-MODIFIED:20260226T151831Z
UID:110743-1777147200-1777159800@depart.gr
SUMMARY:Η μεγάλη επιστροφή των Black Country\, New Road στη σκηνή του Floyd
DESCRIPTION:Οι Viceroy ετοιμάζουν τις αποσκευές τους για να κατηφορίσουν στην Αθήνα\, φέρνοντας μαζί τους τον θόρυβο και την ενέργεια που τους χαρακτηρίζει. Την Κυριακή 10 Μαΐου\, η σκηνή του Death Disco θα φιλοξενήσει το συγκρότημα από τη Θεσσαλονίκη\, σε μια βραδιά που αποτελεί σταθμό της πρώτης τους μεγάλης ευρωπαϊκής περιοδείας. Είναι μια ιδανική ευκαιρία για το αθηναϊκό κοινό να δει από κοντά ένα από τα πιο ανερχόμενα ονόματα της εναλλακτικής σκηνής. Η συγκεκριμένη εμφάνιση υπόσχεται ένταση και αληθινό rock συναίσθημα χωρίς περιττά στολίδια. 								\n				\n					\n		\n					\n		\n				\n						\n					\n			\n						\n				\n									Με τον πρώτο τους δίσκο με τίτλο “Freedom Tastes Like Breakfast”\, ο οποίος κυκλοφόρησε τον Οκτώβριο του 2025\, οι Viceroy κατάφεραν να ταράξουν τα νερά. Ο ήχος τους δεν μπαίνει εύκολα σε καλούπια\, αφού μπλέκει το alternative indie με noise στοιχεία και avant-rock πειραματισμούς. Οι Viceroy χτίζουν έναν τοίχο ήχου που ξεσπά με ωμότητα και σπρώχνει τα όργανα στα άκρα τους σε κάθε live εμφάνιση. Κάθε τους κίνηση πάνω στη σκηνή βγάζει μια αυθεντική ορμή που μετατρέπει τη συναυλία σε μια ηλεκτρισμένη εμπειρία. 								\n				\n					\n		\n					\n		\n				\n						\n					\n			\n						\n				\n									Αυτή η βραδιά όμως δεν θα έχει μόνο έναν πρωταγωνιστή\, καθώς μαζί τους θα βρίσκονται και οι ασταμάτητοι Come. Το αθηναϊκό rock τρίο έχει ήδη γράψει πολλά χιλιόμετρα στον δρόμο\, έχοντας παίξει σε πάνω από 15 πόλεις σε Ελλάδα και εξωτερικό. Οι Come φέρνουν στη σκηνή έναν ακατέργαστο και εκρηκτικό ήχο που βασίζεται στα δυνατά riff και την απόλυτη ειλικρίνεια. Η συμμετοχή τους σε μεγάλα events\, όπως το Endless Daze Festival\, δείχνει πως ξέρουν καλά πώς να κερδίζουν το κοινό κάτω από το stage. 								\n				\n					\n		\n					\n		\n				\n						\n					\n			\n						\n				\n																														\n				\n				\n				\n							\n			\n		\n						\n				\n					\n		\n					\n		\n				\n						\n					\n			\n						\n				\n									Συμπρωταγωνιστές σε αυτό το ηχητικό σύμπαν\, οι Come ετοιμάζουν αυτόν τον καιρό το πρώτο τους EP\, το οποίο αναμένεται να κυκλοφορήσει μέσα στο 2026. Η πορεία τους μέχρι τώρα\, με στάσεις στην Κωνσταντινούπολη και την υπόλοιπη Ευρώπη\, τους έχει δώσει τον απαραίτητο αέρα μιας μπάντας που πατάει γερά στα πόδια της. 								\n				\n					\n		\n					\n		\n				\n						\n					\n			\n						\n				\n									Η συνάντηση των δύο αυτών σχημάτων στο Death Disco δημιουργεί τις κατάλληλες συνθήκες για ένα live που θα θυμόμαστε για καιρό. Το ραντεβού έχει οριστεί για τις 21:00 το βράδυ και η προσμονή για τα νέα τους κομμάτια είναι ήδη μεγάλη. Η οργάνωση της βραδιάς έχει γίνει με σκοπό να αναδειχθεί η αβίαστη ενέργεια και η μουσική αυθεντικότητα των δύο σχημάτων. 								\n				\n					\n		\n					\n		\n				\n						\n					\n			\n						\n				\n									Μην ξεχνάτε πως αυτή η παρουσίαση είναι μέρος μιας μεγαλύτερης προσπάθειας των παιδιών να επικοινωνήσουν τη δουλειά τους εκτός συνόρων. Οι Viceroy και οι Come αντιπροσωπεύουν τη νέα γενιά της ελληνικής rock σκηνής που δεν φοβάται να πειραματιστεί και να λερώσει τον ήχο της.  								\n				\n					\n		\n					\n		\n				\n						\n					\n			\n						\n				\n									Το live στο Death Disco την Κυριακή 10 Μαΐου θα είναι μια γιορτή του ανεξάρτητου ήχου που δεν πρέπει να χάσει κανένας φίλος της καλής μουσικής. Σας περιμένουμε εκεί για να ζήσουμε μαζί αυτή την εμπειρία\, όπως λένε και οι ίδιοι οι μουσικοί “θέλουμε ο κόσμος να νιώσει την ένταση που νιώθουμε κι εμείς πάνω στη σκηνή”.
URL:https://depart.gr/event/i-megali-epistrofi-ton-black-country-new-road-sti-skini-tou-floyd/
LOCATION:FLOYD\, Πειραιώς 117\, Αθήνα\, Αττική\, 11854\, Greece
CATEGORIES:Floyd,Συναυλίες
ATTACH;FMTTYPE=image/png:https://depart.gr/wp-content/uploads/2026/02/bcnr.png
ORGANIZER;CN="Floyd":MAILTO:info@floyd.gr
END:VEVENT
BEGIN:VEVENT
DTSTART;TZID=Europe/Helsinki:20260425T200000
DTEND;TZID=Europe/Helsinki:20260425T233000
DTSTAMP:20260425T061033
CREATED:20260309T104553Z
LAST-MODIFIED:20260309T104553Z
UID:111982-1777147200-1777159800@depart.gr
SUMMARY:Οι Allochiria επιστρέφουν για ένα headline show στο Arch Club με Their Methlab και Okwaho
DESCRIPTION:Οι Viceroy ετοιμάζουν τις αποσκευές τους για να κατηφορίσουν στην Αθήνα\, φέρνοντας μαζί τους τον θόρυβο και την ενέργεια που τους χαρακτηρίζει. Την Κυριακή 10 Μαΐου\, η σκηνή του Death Disco θα φιλοξενήσει το συγκρότημα από τη Θεσσαλονίκη\, σε μια βραδιά που αποτελεί σταθμό της πρώτης τους μεγάλης ευρωπαϊκής περιοδείας. Είναι μια ιδανική ευκαιρία για το αθηναϊκό κοινό να δει από κοντά ένα από τα πιο ανερχόμενα ονόματα της εναλλακτικής σκηνής. Η συγκεκριμένη εμφάνιση υπόσχεται ένταση και αληθινό rock συναίσθημα χωρίς περιττά στολίδια. 								\n				\n					\n		\n					\n		\n				\n						\n					\n			\n						\n				\n									Με τον πρώτο τους δίσκο με τίτλο “Freedom Tastes Like Breakfast”\, ο οποίος κυκλοφόρησε τον Οκτώβριο του 2025\, οι Viceroy κατάφεραν να ταράξουν τα νερά. Ο ήχος τους δεν μπαίνει εύκολα σε καλούπια\, αφού μπλέκει το alternative indie με noise στοιχεία και avant-rock πειραματισμούς. Οι Viceroy χτίζουν έναν τοίχο ήχου που ξεσπά με ωμότητα και σπρώχνει τα όργανα στα άκρα τους σε κάθε live εμφάνιση. Κάθε τους κίνηση πάνω στη σκηνή βγάζει μια αυθεντική ορμή που μετατρέπει τη συναυλία σε μια ηλεκτρισμένη εμπειρία. 								\n				\n					\n		\n					\n		\n				\n						\n					\n			\n						\n				\n									Αυτή η βραδιά όμως δεν θα έχει μόνο έναν πρωταγωνιστή\, καθώς μαζί τους θα βρίσκονται και οι ασταμάτητοι Come. Το αθηναϊκό rock τρίο έχει ήδη γράψει πολλά χιλιόμετρα στον δρόμο\, έχοντας παίξει σε πάνω από 15 πόλεις σε Ελλάδα και εξωτερικό. Οι Come φέρνουν στη σκηνή έναν ακατέργαστο και εκρηκτικό ήχο που βασίζεται στα δυνατά riff και την απόλυτη ειλικρίνεια. Η συμμετοχή τους σε μεγάλα events\, όπως το Endless Daze Festival\, δείχνει πως ξέρουν καλά πώς να κερδίζουν το κοινό κάτω από το stage. 								\n				\n					\n		\n					\n		\n				\n						\n					\n			\n						\n				\n																														\n				\n				\n				\n							\n			\n		\n						\n				\n					\n		\n					\n		\n				\n						\n					\n			\n						\n				\n									Συμπρωταγωνιστές σε αυτό το ηχητικό σύμπαν\, οι Come ετοιμάζουν αυτόν τον καιρό το πρώτο τους EP\, το οποίο αναμένεται να κυκλοφορήσει μέσα στο 2026. Η πορεία τους μέχρι τώρα\, με στάσεις στην Κωνσταντινούπολη και την υπόλοιπη Ευρώπη\, τους έχει δώσει τον απαραίτητο αέρα μιας μπάντας που πατάει γερά στα πόδια της. 								\n				\n					\n		\n					\n		\n				\n						\n					\n			\n						\n				\n									Η συνάντηση των δύο αυτών σχημάτων στο Death Disco δημιουργεί τις κατάλληλες συνθήκες για ένα live που θα θυμόμαστε για καιρό. Το ραντεβού έχει οριστεί για τις 21:00 το βράδυ και η προσμονή για τα νέα τους κομμάτια είναι ήδη μεγάλη. Η οργάνωση της βραδιάς έχει γίνει με σκοπό να αναδειχθεί η αβίαστη ενέργεια και η μουσική αυθεντικότητα των δύο σχημάτων. 								\n				\n					\n		\n					\n		\n				\n						\n					\n			\n						\n				\n									Μην ξεχνάτε πως αυτή η παρουσίαση είναι μέρος μιας μεγαλύτερης προσπάθειας των παιδιών να επικοινωνήσουν τη δουλειά τους εκτός συνόρων. Οι Viceroy και οι Come αντιπροσωπεύουν τη νέα γενιά της ελληνικής rock σκηνής που δεν φοβάται να πειραματιστεί και να λερώσει τον ήχο της.  								\n				\n					\n		\n					\n		\n				\n						\n					\n			\n						\n				\n									Το live στο Death Disco την Κυριακή 10 Μαΐου θα είναι μια γιορτή του ανεξάρτητου ήχου που δεν πρέπει να χάσει κανένας φίλος της καλής μουσικής. Σας περιμένουμε εκεί για να ζήσουμε μαζί αυτή την εμπειρία\, όπως λένε και οι ίδιοι οι μουσικοί “θέλουμε ο κόσμος να νιώσει την ένταση που νιώθουμε κι εμείς πάνω στη σκηνή”.
URL:https://depart.gr/event/oi-allochiria-epistrefoun-gia-ena-headline-show-sto-arch-club-me-their-methlab-kai-okwaho/
LOCATION:Arch Club Live Stage\, Κρήτης 1 & Πέτρου Ράλλη 29\, Athens\, Attica\, 17778\, Greece
CATEGORIES:ARCH Club - Live Stage,Συναυλίες,Συναυλίες Εγχώριας Σκηνής
ATTACH;FMTTYPE=image/webp:https://depart.gr/wp-content/uploads/2026/03/1712588035739.webp
ORGANIZER;CN="Arch Club":MAILTO:support@tmrgoc.com
END:VEVENT
BEGIN:VEVENT
DTSTART;TZID=Europe/Helsinki:20260425T200000
DTEND;TZID=Europe/Helsinki:20260425T233000
DTSTAMP:20260425T061033
CREATED:20260414T075211Z
LAST-MODIFIED:20260414T075211Z
UID:114535-1777147200-1777159800@depart.gr
SUMMARY:Tom Smith: Ο frontman των Editors στο Jameson Connects του 2026
DESCRIPTION:Οι Viceroy ετοιμάζουν τις αποσκευές τους για να κατηφορίσουν στην Αθήνα\, φέρνοντας μαζί τους τον θόρυβο και την ενέργεια που τους χαρακτηρίζει. Την Κυριακή 10 Μαΐου\, η σκηνή του Death Disco θα φιλοξενήσει το συγκρότημα από τη Θεσσαλονίκη\, σε μια βραδιά που αποτελεί σταθμό της πρώτης τους μεγάλης ευρωπαϊκής περιοδείας. Είναι μια ιδανική ευκαιρία για το αθηναϊκό κοινό να δει από κοντά ένα από τα πιο ανερχόμενα ονόματα της εναλλακτικής σκηνής. Η συγκεκριμένη εμφάνιση υπόσχεται ένταση και αληθινό rock συναίσθημα χωρίς περιττά στολίδια. 								\n				\n					\n		\n					\n		\n				\n						\n					\n			\n						\n				\n									Με τον πρώτο τους δίσκο με τίτλο “Freedom Tastes Like Breakfast”\, ο οποίος κυκλοφόρησε τον Οκτώβριο του 2025\, οι Viceroy κατάφεραν να ταράξουν τα νερά. Ο ήχος τους δεν μπαίνει εύκολα σε καλούπια\, αφού μπλέκει το alternative indie με noise στοιχεία και avant-rock πειραματισμούς. Οι Viceroy χτίζουν έναν τοίχο ήχου που ξεσπά με ωμότητα και σπρώχνει τα όργανα στα άκρα τους σε κάθε live εμφάνιση. Κάθε τους κίνηση πάνω στη σκηνή βγάζει μια αυθεντική ορμή που μετατρέπει τη συναυλία σε μια ηλεκτρισμένη εμπειρία. 								\n				\n					\n		\n					\n		\n				\n						\n					\n			\n						\n				\n									Αυτή η βραδιά όμως δεν θα έχει μόνο έναν πρωταγωνιστή\, καθώς μαζί τους θα βρίσκονται και οι ασταμάτητοι Come. Το αθηναϊκό rock τρίο έχει ήδη γράψει πολλά χιλιόμετρα στον δρόμο\, έχοντας παίξει σε πάνω από 15 πόλεις σε Ελλάδα και εξωτερικό. Οι Come φέρνουν στη σκηνή έναν ακατέργαστο και εκρηκτικό ήχο που βασίζεται στα δυνατά riff και την απόλυτη ειλικρίνεια. Η συμμετοχή τους σε μεγάλα events\, όπως το Endless Daze Festival\, δείχνει πως ξέρουν καλά πώς να κερδίζουν το κοινό κάτω από το stage. 								\n				\n					\n		\n					\n		\n				\n						\n					\n			\n						\n				\n																														\n				\n				\n				\n							\n			\n		\n						\n				\n					\n		\n					\n		\n				\n						\n					\n			\n						\n				\n									Συμπρωταγωνιστές σε αυτό το ηχητικό σύμπαν\, οι Come ετοιμάζουν αυτόν τον καιρό το πρώτο τους EP\, το οποίο αναμένεται να κυκλοφορήσει μέσα στο 2026. Η πορεία τους μέχρι τώρα\, με στάσεις στην Κωνσταντινούπολη και την υπόλοιπη Ευρώπη\, τους έχει δώσει τον απαραίτητο αέρα μιας μπάντας που πατάει γερά στα πόδια της. 								\n				\n					\n		\n					\n		\n				\n						\n					\n			\n						\n				\n									Η συνάντηση των δύο αυτών σχημάτων στο Death Disco δημιουργεί τις κατάλληλες συνθήκες για ένα live που θα θυμόμαστε για καιρό. Το ραντεβού έχει οριστεί για τις 21:00 το βράδυ και η προσμονή για τα νέα τους κομμάτια είναι ήδη μεγάλη. Η οργάνωση της βραδιάς έχει γίνει με σκοπό να αναδειχθεί η αβίαστη ενέργεια και η μουσική αυθεντικότητα των δύο σχημάτων. 								\n				\n					\n		\n					\n		\n				\n						\n					\n			\n						\n				\n									Μην ξεχνάτε πως αυτή η παρουσίαση είναι μέρος μιας μεγαλύτερης προσπάθειας των παιδιών να επικοινωνήσουν τη δουλειά τους εκτός συνόρων. Οι Viceroy και οι Come αντιπροσωπεύουν τη νέα γενιά της ελληνικής rock σκηνής που δεν φοβάται να πειραματιστεί και να λερώσει τον ήχο της.  								\n				\n					\n		\n					\n		\n				\n						\n					\n			\n						\n				\n									Το live στο Death Disco την Κυριακή 10 Μαΐου θα είναι μια γιορτή του ανεξάρτητου ήχου που δεν πρέπει να χάσει κανένας φίλος της καλής μουσικής. Σας περιμένουμε εκεί για να ζήσουμε μαζί αυτή την εμπειρία\, όπως λένε και οι ίδιοι οι μουσικοί “θέλουμε ο κόσμος να νιώσει την ένταση που νιώθουμε κι εμείς πάνω στη σκηνή”.
URL:https://depart.gr/event/tom-smith-o-frontman-ton-editors-sto-jameson-connects-tou-2026/
LOCATION:Gagarin 205 Live Music Space\, Λεωφόρος Λιοσίων 205\, Αθήνα\, Αττική\, 10445\, Greece
CATEGORIES:Gagarin,Συναυλίες
ATTACH;FMTTYPE=image/jpeg:https://depart.gr/wp-content/uploads/2026/04/tom-smith.jpg
ORGANIZER;CN="Gagarin 205":MAILTO:booking@gagarin205.gr
END:VEVENT
BEGIN:VEVENT
DTSTART;TZID=Europe/Helsinki:20260425T203000
DTEND;TZID=Europe/Helsinki:20260425T233000
DTSTAMP:20260425T061033
CREATED:20260129T101448Z
LAST-MODIFIED:20260129T101448Z
UID:107839-1777149000-1777159800@depart.gr
SUMMARY:Οι Maruja επιστρέφουν στην Ελλάδα για δύο εκρηκτικές συναυλίες (SKG)
DESCRIPTION:Οι Viceroy ετοιμάζουν τις αποσκευές τους για να κατηφορίσουν στην Αθήνα\, φέρνοντας μαζί τους τον θόρυβο και την ενέργεια που τους χαρακτηρίζει. Την Κυριακή 10 Μαΐου\, η σκηνή του Death Disco θα φιλοξενήσει το συγκρότημα από τη Θεσσαλονίκη\, σε μια βραδιά που αποτελεί σταθμό της πρώτης τους μεγάλης ευρωπαϊκής περιοδείας. Είναι μια ιδανική ευκαιρία για το αθηναϊκό κοινό να δει από κοντά ένα από τα πιο ανερχόμενα ονόματα της εναλλακτικής σκηνής. Η συγκεκριμένη εμφάνιση υπόσχεται ένταση και αληθινό rock συναίσθημα χωρίς περιττά στολίδια. 								\n				\n					\n		\n					\n		\n				\n						\n					\n			\n						\n				\n									Με τον πρώτο τους δίσκο με τίτλο “Freedom Tastes Like Breakfast”\, ο οποίος κυκλοφόρησε τον Οκτώβριο του 2025\, οι Viceroy κατάφεραν να ταράξουν τα νερά. Ο ήχος τους δεν μπαίνει εύκολα σε καλούπια\, αφού μπλέκει το alternative indie με noise στοιχεία και avant-rock πειραματισμούς. Οι Viceroy χτίζουν έναν τοίχο ήχου που ξεσπά με ωμότητα και σπρώχνει τα όργανα στα άκρα τους σε κάθε live εμφάνιση. Κάθε τους κίνηση πάνω στη σκηνή βγάζει μια αυθεντική ορμή που μετατρέπει τη συναυλία σε μια ηλεκτρισμένη εμπειρία. 								\n				\n					\n		\n					\n		\n				\n						\n					\n			\n						\n				\n									Αυτή η βραδιά όμως δεν θα έχει μόνο έναν πρωταγωνιστή\, καθώς μαζί τους θα βρίσκονται και οι ασταμάτητοι Come. Το αθηναϊκό rock τρίο έχει ήδη γράψει πολλά χιλιόμετρα στον δρόμο\, έχοντας παίξει σε πάνω από 15 πόλεις σε Ελλάδα και εξωτερικό. Οι Come φέρνουν στη σκηνή έναν ακατέργαστο και εκρηκτικό ήχο που βασίζεται στα δυνατά riff και την απόλυτη ειλικρίνεια. Η συμμετοχή τους σε μεγάλα events\, όπως το Endless Daze Festival\, δείχνει πως ξέρουν καλά πώς να κερδίζουν το κοινό κάτω από το stage. 								\n				\n					\n		\n					\n		\n				\n						\n					\n			\n						\n				\n																														\n				\n				\n				\n							\n			\n		\n						\n				\n					\n		\n					\n		\n				\n						\n					\n			\n						\n				\n									Συμπρωταγωνιστές σε αυτό το ηχητικό σύμπαν\, οι Come ετοιμάζουν αυτόν τον καιρό το πρώτο τους EP\, το οποίο αναμένεται να κυκλοφορήσει μέσα στο 2026. Η πορεία τους μέχρι τώρα\, με στάσεις στην Κωνσταντινούπολη και την υπόλοιπη Ευρώπη\, τους έχει δώσει τον απαραίτητο αέρα μιας μπάντας που πατάει γερά στα πόδια της. 								\n				\n					\n		\n					\n		\n				\n						\n					\n			\n						\n				\n									Η συνάντηση των δύο αυτών σχημάτων στο Death Disco δημιουργεί τις κατάλληλες συνθήκες για ένα live που θα θυμόμαστε για καιρό. Το ραντεβού έχει οριστεί για τις 21:00 το βράδυ και η προσμονή για τα νέα τους κομμάτια είναι ήδη μεγάλη. Η οργάνωση της βραδιάς έχει γίνει με σκοπό να αναδειχθεί η αβίαστη ενέργεια και η μουσική αυθεντικότητα των δύο σχημάτων. 								\n				\n					\n		\n					\n		\n				\n						\n					\n			\n						\n				\n									Μην ξεχνάτε πως αυτή η παρουσίαση είναι μέρος μιας μεγαλύτερης προσπάθειας των παιδιών να επικοινωνήσουν τη δουλειά τους εκτός συνόρων. Οι Viceroy και οι Come αντιπροσωπεύουν τη νέα γενιά της ελληνικής rock σκηνής που δεν φοβάται να πειραματιστεί και να λερώσει τον ήχο της.  								\n				\n					\n		\n					\n		\n				\n						\n					\n			\n						\n				\n									Το live στο Death Disco την Κυριακή 10 Μαΐου θα είναι μια γιορτή του ανεξάρτητου ήχου που δεν πρέπει να χάσει κανένας φίλος της καλής μουσικής. Σας περιμένουμε εκεί για να ζήσουμε μαζί αυτή την εμπειρία\, όπως λένε και οι ίδιοι οι μουσικοί “θέλουμε ο κόσμος να νιώσει την ένταση που νιώθουμε κι εμείς πάνω στη σκηνή”.
URL:https://depart.gr/event/oi-maruja-epistrefoun-stin-ellada-gia-dyo-ekriktikes-synavlies-skg/
LOCATION:Eightball Club\, Pindou 1\, Thessaloniki\, 54625\, Greece
CATEGORIES:Eightball,Συναυλίες
ATTACH;FMTTYPE=image/jpeg:https://depart.gr/wp-content/uploads/2026/01/619843995_1447267184068395_2791453977759277593_n.jpg
ORGANIZER;CN="Eightball":MAILTO:eightballclub@yahoo.gr
END:VEVENT
END:VCALENDAR